BEGIN:VCALENDAR
VERSION:2.0
PRODID:icalendar-ruby
CALSCALE:GREGORIAN
METHOD:PUBLISH
BEGIN:VEVENT
DTSTAMP:20260424T061106Z
UID:24-301662@strosecc.org
DTSTART:20260826T233000Z
DTEND:20260827T003000Z
CLASS:PUBLIC
CREATED:20260423T213239
DESCRIPTION:Community Kids and Student Ministry
LAST-MODIFIED:20260423T213239
LOCATION:
SUMMARY:Community Kids and Student Ministry
URL;VALUE=URI:https://strosecc.org/events/community-kids-and-student-minist
 ry/2026-08-26
ATTACH;FILENAME=487853860_9505248259591018_1140784971048710064_n.jpg;FMTTYP
 E=image/jpeg:https://dq5pwpg1q8ru0.cloudfront.net/2025/08/12/14/29/56/d198
 5357-d9aa-4f71-8a11-3aaa71e46bb4/487853860_9505248259591018_11407849710487
 10064_n.jpg
END:VEVENT
END:VCALENDAR
