BEGIN:VCALENDAR
VERSION:2.0
PRODID:icalendar-ruby
CALSCALE:GREGORIAN
METHOD:PUBLISH
BEGIN:VEVENT
DTSTAMP:20260422T132054Z
UID:28-299749@strosecc.org
DTSTART:20261018T220000Z
DTEND:20261018T230000Z
CLASS:PUBLIC
CREATED:20260422T065932
DESCRIPTION:Sunday Prayer Service
LAST-MODIFIED:20260422T065932
LOCATION:
SUMMARY:Sunday Prayer Service
URL;VALUE=URI:https://strosecc.org/events/sunday-prayer-service/2026-10-18
ATTACH;FILENAME=485726739_713864094600755_8426664945458937544_n.jpg;FMTTYPE
 =image/jpeg:https://dq5pwpg1q8ru0.cloudfront.net/2025/08/12/14/37/00/c626f
 523-772e-4d61-a079-0171e0093fcb/485726739_713864094600755_8426664945458937
 544_n.jpg
END:VEVENT
END:VCALENDAR
